Workbook

Sheet Wins
A1: Date | B1: Rep | C1: Amount | D1: Note
A2: 46296.385 | B2: Jamal Price | C2: 4250 | D2: New account
A3: 46296.46 | B3: Priya Shah | C3: 3890 | D3: Annual plan
A4: 46296.651 | B4: Maya Rios | C4: 5120 | D4: New account
A5: 46297.42 | B5: Luis Ortega | C5: 2980 | D5: Upsell
A6: 46297.575 | B6: Jamal Price | C6: 6400 | D6: Annual plan
A7: 46297.681 | B7: Hana Kim | C7: 2150 | D7: Renewal
A8: 46300.397 | B8: Hana Kim | C8: 4780 | D8: New account
A9: 46300.507 | B9: Priya Shah | C9: 5300 | D9: Annual plan
A10: 46300.622 | B10: Maya Rios | C10: 3640 | D10: Upsell
A11: 46301.444 | B11: Luis Ortega | C11: 4410 | D11: New account
A12: 46301.628 | B12: Jamal Price | C12: 3150 | D12: Renewal
A13: 46302.474 | B13: Priya Shah | C13: 2760 | D13: Upsell

Sheet Leaderboard
A1: Sales leaderboard
A2: Count wins from | B2: =MIN(Wins!A:A) -> 46296.385 | C2: Type a date here, like the 1st of the month, to start a new period.
A4: Rank | B4: Rep | C4: Revenue | D4: Deals | E4: Goal | F4: % of goal
A5: =IF(B5="","",RANK(C5,$C$5:$C$14)) -> 1 | B5: Jamal Price | C5: =IF(B5="","",SUMIFS(Wins!$C:$C,Wins!$B:$B,B5,Wins!$A:$A,">="&$B$2)) -> 13800 | D5: =IF(B5="","",COUNTIFS(Wins!$B:$B,B5,Wins!$A:$A,">="&$B$2)) -> 3 | E5: 15000 | F5: =IF(OR(B5="",E5=""),"",C5/E5) -> 0.92
A6: =IF(B6="","",RANK(C6,$C$5:$C$14)) -> 2 | B6: Priya Shah | C6: =IF(B6="","",SUMIFS(Wins!$C:$C,Wins!$B:$B,B6,Wins!$A:$A,">="&$B$2)) -> 11950 | D6: =IF(B6="","",COUNTIFS(Wins!$B:$B,B6,Wins!$A:$A,">="&$B$2)) -> 3 | E6: 15000 | F6: =IF(OR(B6="",E6=""),"",C6/E6) -> 0.79666667
A7: =IF(B7="","",RANK(C7,$C$5:$C$14)) -> 3 | B7: Maya Rios | C7: =IF(B7="","",SUMIFS(Wins!$C:$C,Wins!$B:$B,B7,Wins!$A:$A,">="&$B$2)) -> 8760 | D7: =IF(B7="","",COUNTIFS(Wins!$B:$B,B7,Wins!$A:$A,">="&$B$2)) -> 2 | E7: 12000 | F7: =IF(OR(B7="",E7=""),"",C7/E7) -> 0.73
A8: =IF(B8="","",RANK(C8,$C$5:$C$14)) -> 4 | B8: Luis Ortega | C8: =IF(B8="","",SUMIFS(Wins!$C:$C,Wins!$B:$B,B8,Wins!$A:$A,">="&$B$2)) -> 7390 | D8: =IF(B8="","",COUNTIFS(Wins!$B:$B,B8,Wins!$A:$A,">="&$B$2)) -> 2 | E8: 12000 | F8: =IF(OR(B8="",E8=""),"",C8/E8) -> 0.61583333
A9: =IF(B9="","",RANK(C9,$C$5:$C$14)) -> 5 | B9: Hana Kim | C9: =IF(B9="","",SUMIFS(Wins!$C:$C,Wins!$B:$B,B9,Wins!$A:$A,">="&$B$2)) -> 6930 | D9: =IF(B9="","",COUNTIFS(Wins!$B:$B,B9,Wins!$A:$A,">="&$B$2)) -> 2 | E9: 10000 | F9: =IF(OR(B9="",E9=""),"",C9/E9) -> 0.693
A10: =IF(B10="","",RANK(C10,$C$5:$C$14)) | C10: =IF(B10="","",SUMIFS(Wins!$C:$C,Wins!$B:$B,B10,Wins!$A:$A,">="&$B$2)) | D10: =IF(B10="","",COUNTIFS(Wins!$B:$B,B10,Wins!$A:$A,">="&$B$2)) | F10: =IF(OR(B10="",E10=""),"",C10/E10)
A11: =IF(B11="","",RANK(C11,$C$5:$C$14)) | C11: =IF(B11="","",SUMIFS(Wins!$C:$C,Wins!$B:$B,B11,Wins!$A:$A,">="&$B$2)) | D11: =IF(B11="","",COUNTIFS(Wins!$B:$B,B11,Wins!$A:$A,">="&$B$2)) | F11: =IF(OR(B11="",E11=""),"",C11/E11)
A12: =IF(B12="","",RANK(C12,$C$5:$C$14)) | C12: =IF(B12="","",SUMIFS(Wins!$C:$C,Wins!$B:$B,B12,Wins!$A:$A,">="&$B$2)) | D12: =IF(B12="","",COUNTIFS(Wins!$B:$B,B12,Wins!$A:$A,">="&$B$2)) | F12: =IF(OR(B12="",E12=""),"",C12/E12)
A13: =IF(B13="","",RANK(C13,$C$5:$C$14)) | C13: =IF(B13="","",SUMIFS(Wins!$C:$C,Wins!$B:$B,B13,Wins!$A:$A,">="&$B$2)) | D13: =IF(B13="","",COUNTIFS(Wins!$B:$B,B13,Wins!$A:$A,">="&$B$2)) | F13: =IF(OR(B13="",E13=""),"",C13/E13)
A14: =IF(B14="","",RANK(C14,$C$5:$C$14)) | C14: =IF(B14="","",SUMIFS(Wins!$C:$C,Wins!$B:$B,B14,Wins!$A:$A,">="&$B$2)) | D14: =IF(B14="","",COUNTIFS(Wins!$B:$B,B14,Wins!$A:$A,">="&$B$2)) | F14: =IF(OR(B14="",E14=""),"",C14/E14)
B16: Team | C16: =SUM(C5:C14) -> 48830 | D16: =SUM(D5:D14) -> 12 | E16: =SUM(E5:E14) -> 64000 | F16: =IF(E16=0,"",C16/E16) -> 0.76296875

Sheet Read me
A1: How to use this template
A3: 1. Log every win on the Wins tab: the date and time, the rep and the amount. One row per win.
A4: 2. Put each rep's name and goal on the Leaderboard tab. Revenue, deals, rank and progress fill in by themselves.
A5: 3. To start a new month, type its first day in Count wins from (cell B2 on the Leaderboard tab).
A6: 4. To sort by rank in Excel, select A4:F14 and choose Data, Sort, then sort by Rank, smallest to largest.
A8: Put it on the office TV
A10: Roarwall turns the Wins tab into a live leaderboard for the office TV, with a celebration for every new row.
A11: 1. In Google Sheets, open this file and choose File, Save as Google Sheets.
A12: 2. Choose Share, set General access to Anyone with the link (Viewer), and copy the link.
A13: 3. Open Roarwall, choose Live sheet (any CRM) and paste the link into CSV link. Reps appear by themselves.
A15: Free for up to 5 reps: https://www.levologylabs.com/apps/roarwall/
